View In:
ArcGIS JavaScript
ArcGIS Online Map Viewer
ArcGIS Earth
ArcGIS Pro
Service Description:
Map Name: Layers
Legend
All Layers and Tables
Layers:
Description: This map draws attention to your thematic content by providing a neutral background with minimal colors, labels, and features. Only key information is represented to provide geographic context, allowing your data to come to the foreground. This light gray map supports any strong colors, creating a visually compelling map graphic which helps your reader see the patterns intended. This map was developed by Esri using HERE data, Garmin basemap layers, OpenStreetMap contributors, Esri basemap data, and select data from the GIS user community. Worldwide coverage is provided from Level 0 (1:591M scale) through Level 13 (1:72k scale). In North America (Canada, Mexico, United States), Europe, India, South America and Central America, Africa, most of the Middle east, and Australia & New Zealand coverage is provided from Level 14 (1:36k scale) through Level 16 (1:9k scale). For more information on this map, including our terms of use, visit us online at http://goto.arcgisonline.com/maps/World_Light_Gray_Base
Service Item Id: 8889fa62e5814136a6cef204de53ed4c
Copyright Text: Esri, HERE, Garmin, © OpenStreetMap contributors, and the GIS user community
Spatial Reference:
102100
(3857)
Single Fused Map Cache: true
Tile Info:
- Height: 256
- Width: 256
- DPI: 96
-
Levels of Detail: 24
-
Level ID: 0
[ Start Tile, End Tile ]
- Resolution: 156543.03392800014
- Scale: 5.91657527591555E8
-
Level ID: 1
[ Start Tile, End Tile ]
- Resolution: 78271.51696399994
- Scale: 2.95828763795777E8
-
Level ID: 2
[ Start Tile, End Tile ]
- Resolution: 39135.75848200009
- Scale: 1.47914381897889E8
-
Level ID: 3
[ Start Tile, End Tile ]
- Resolution: 19567.87924099992
- Scale: 7.3957190948944E7
-
Level ID: 4
[ Start Tile, End Tile ]
- Resolution: 9783.93962049996
- Scale: 3.6978595474472E7
-
Level ID: 5
[ Start Tile, End Tile ]
- Resolution: 4891.96981024998
- Scale: 1.8489297737236E7
- Format: Mixed
- Compression Quality: 90.0
- Origin: X: -2.0037508342787E7
Y: 2.0037508342787E7
- Spatial Reference: 102100
(3857)
Initial Extent:
XMin: -1.992618885199597E7
YMin: 2363284.0514884093
XMax: -7279181.50297216
YMax: 1.1753184615338454E7
Spatial Reference: 102100
Full Extent:
XMin: -1.992618885199597E7
YMin: 2363284.0514884093
XMax: -7279181.50297216
YMax: 1.1753184615338454E7
Spatial Reference: 102100
Units: esriMeters
Supported Image Format Types: PNG32,PNG24,PNG,JPG,DIB,TIFF,EMF,PS,PDF,GIF,SVG,SVGZ,BMP
Document Info:
Title: Canvas Base
Author: Esri
Comments:
Subject: political boundaries, populated places, water, roads, urban areas, building footprints, parks
Category: transportation(Transportation Networks)
Keywords: thematic basemap, thematic map, choropleth, dot map, dot density, flow map, heat map, graphs, infographic, graduated symbols, proportional symbols, neutral, subdued, canvas, shaded, hot spot, color coded, colorful, World, Global, Europe, Andorra, Austria, Belgium, Czech Republic, Denmark, France, Germany, Great Britain, Greece, Hungary, Ireland, Italy, Luxembourg, Netherlands, Norway, Poland, Portugal, San Marino, Slovakia, Spain, Sweden, Switzerland, North America, United States, Canada, Mexico, Southern Africa, Botswana, Lesotho, Namibia, South Africa and Swaziland, Asia, India, South America, Central America, Argentina, Bolivia, Brazil, Chile, Colombia, Peru, Uruguay, Venezuela, Australia, New Zealand
AntialiasingMode: None
TextAntialiasingMode: Force
Supports Dynamic Layers: false
MaxRecordCount: 1000
MaxImageHeight: 4096
MaxImageWidth: 4096
Supported Query Formats: JSON, geoJSON
Supports Query Data Elements:
Min Scale: 5.91657527591555E8
Max Scale: 0
Min LOD: 3
Max LOD: 9
Supports Datum Transformation: true
Child Resources:
Info
Supported Operations:
QueryLegends
EstimateExportTilesSize
ExportTiles
Return Updates